BEGIN:VCALENDAR
VERSION:2.0
PRODID:-//eventon.com NONSGML v1.0//EN
CALSCALE:GREGORIAN
METHOD:PUBLISH
BEGIN:VEVENT
UID:69e7eb4397256
DTSTAMP:20260421T212523Z
DTSTART:20260501T210000Z
DTEND:20260503T210000Z
LOCATION:
SUMMARY:Upper Ulam Camp
DESCRIPTION:We ride from Upper Ulam \,  through Struck Oil\,  down the Pack
  Horse Trail\,  camp at th Bouldy camp grounds then ride Table Mountian on 
 Sunday and short t loop ride around Bouldercombe before we leave Monday\nht
 tps://www.athra.com.au/events/upper-ulam-camp/
URL:https://www.athra.com.au/events/upper-ulam-camp/
END:VEVENT
END:VCALENDAR