BEGIN:VCALENDAR
VERSION:2.0
PRODID:-//eventon.com NONSGML v1.0//EN
CALSCALE:GREGORIAN
METHOD:PUBLISH
BEGIN:VEVENT
UID:69e7ef7910473
DTSTAMP:20260421T214321Z
DTSTART:20260911T230000Z
DTEND:20260920T000000Z
LOCATION:
SUMMARY:BSTHRC - Sapphire Coast (NSW) Camp Saturday 12th to Sunday 20th September 2026
DESCRIPTION:Important Notice:&nbsp; All enquiries &amp; nominations to Alan
  Salter at alg_salter@bigpond.com \,  or 0427 357 941. All ride nominations
  must include the nominees name &amp; mobile and their Emergency Contact’
 s name &amp; mobile. NOMINATION &amp; RIDE FEES:&nbsp;&nbsp; $250\,  all in
 clusive\,  to be deposited into the Club Bendigo Bank Account &#8211;[..]\n
 https://www.athra.com.au/events/bsthrc-sapphire-coast-nsw-camp-saturday-12t
 h-to-sunday-20th-september-2026/
URL:https://www.athra.com.au/events/bsthrc-sapphire-coast-nsw-camp-saturday-12th-to-sunday-20th-september-2026/
END:VEVENT
END:VCALENDAR