BEGIN:VCALENDAR
VERSION:2.0
PRODID:-//eventon.com NONSGML v1.0//EN
CALSCALE:GREGORIAN
METHOD:PUBLISH
BEGIN:VEVENT
UID:69e7f0e072264
DTSTAMP:20260421T214920Z
DTSTART:20260508
DTEND:20260509
LOCATION:
SUMMARY:BSTHRC - BLAMPIED Nervous Nellies (Swiss Mountain) Pub Ride 	Friday the 8th of May 2026
DESCRIPTION:Enquiries &amp; Nominations to Alan Salter at alg_salter@bigpon
 d.com or 0427 357 941 IMPORTANT NOTE:&nbsp; Please read the revised Club Ru
 les on page 2&nbsp; &nbsp; NOMINATIONS &amp; FEES:&nbsp; This event is open
  to all ATHRA members &amp; Day Members\,  but everyone must comply with th
 e BSTHRC Rules and Protocols on page[..]\nhttps://www.athra.com.au/events/b
 sthrc-blampied-nervous-nellies-swiss-mountain-pub-ride-friday-the-8th-of-ma
 y-2026/
URL:https://www.athra.com.au/events/bsthrc-blampied-nervous-nellies-swiss-mountain-pub-ride-friday-the-8th-of-may-2026/
END:VEVENT
END:VCALENDAR