BEGIN:VCALENDAR
VERSION:2.0
PRODID:-//eventon.com NONSGML v1.0//EN
CALSCALE:GREGORIAN
METHOD:PUBLISH
BEGIN:VEVENT
UID:69e7ea9b00061
DTSTAMP:20260421T212235Z
DTSTART:20260426
DTEND:20260427
LOCATION:
SUMMARY:Imbil Forestry Ride / Come & Try Ride
DESCRIPTION:Imbil Forestry Ride / Come &amp; Try Ride\nhttps://www.athra.co
 m.au/events/imbil-forestry-ride-come-try-ride/
URL:https://www.athra.com.au/events/imbil-forestry-ride-come-try-ride/
END:VEVENT
END:VCALENDAR