BEGIN:VCALENDAR
VERSION:2.0
PRODID:-//eventon.com NONSGML v1.0//EN
CALSCALE:GREGORIAN
METHOD:PUBLISH
BEGIN:VEVENT
UID:69e8f1ef2bbb3
DTSTAMP:20260422T160607Z
DTSTART:20260421T230000Z
DTEND:20260426T060000Z
LOCATION:
SUMMARY:Cowboy Dressage 5 Day Retreat
DESCRIPTION:FIVE UNFORGETTABLE&nbsp; DAYS! Immerse yourself in Cowboy Dress
 age and Horsemanship For you and your horse! 9.00am — 4.00pm daily Progra
 m: Ridden horsemanship covering: balanced stops and departs \,  balanced tr
 ansitions\,  rhythm with softness and balance plus much more and practice t
 ests Camping &amp; Facilities: Horse yards and water provided\,  No[..]\nht
 tps://www.athra.com.au/events/cowboy-dressage-5-day-retreat/
URL:https://www.athra.com.au/events/cowboy-dressage-5-day-retreat/
END:VEVENT
END:VCALENDAR