BEGIN:VCALENDAR
VERSION:2.0
PRODID:-//eventon.com NONSGML v1.0//EN
CALSCALE:GREGORIAN
METHOD:PUBLISH
BEGIN:VEVENT
UID:69e80107a2589
DTSTAMP:20260421T225815Z
DTSTART:20260529T230000Z
DTEND:20260531T050000Z
LOCATION:
SUMMARY:Accreditation Weekend - Taree\,  NSW
DESCRIPTION:ATHRA members are encouraged to come along and get accredited f
 or the important roles of Trail Boss\,  Ride Coordinator and Ride Steward. 
 Our National Trainers have a wealth of knowledge and experience to share. T
 his weekend will be both fun and educational\,  so register now. Details ar
 e on the flyer.&nbsp;&nbsp;[..]\nhttps://www.athra.com.au/events/accreditat
 ion-weekend-taree-nsw/
URL:https://www.athra.com.au/events/accreditation-weekend-taree-nsw/
END:VEVENT
END:VCALENDAR