BEGIN:VCALENDAR
VERSION:2.0
PRODID:-//eventon.com NONSGML v1.0//EN
CALSCALE:GREGORIAN
METHOD:PUBLISH
BEGIN:VEVENT
UID:69e7f46025757
DTSTAMP:20260421T220416Z
DTSTART:20260522T230000Z
DTEND:20260524T050000Z
LOCATION:
SUMMARY:Accreditation Weekend - Dalton\,  NSW
DESCRIPTION:ATHRA members are encouraged to come along and get accredited f
 or the important roles of Trail Boss\,  Ride Coordinator and Ride Steward. 
 Our National Trainers have a wealth of knowledge and experience to share. T
 his weekend will be both fun and educational\,  so register now. Contact de
 tails are on the[..]\nhttps://www.athra.com.au/events/accreditation-weekend
 -dalton-nsw/
URL:https://www.athra.com.au/events/accreditation-weekend-dalton-nsw/
END:VEVENT
END:VCALENDAR