BEGIN:VCALENDAR
VERSION:2.0
PRODID:-//eventon.com NONSGML v1.0//EN
CALSCALE:GREGORIAN
METHOD:PUBLISH
BEGIN:VEVENT
UID:69e7f5d1226ba
DTSTAMP:20260421T221025Z
DTSTART:20260612T230000Z
DTEND:20260614T050000Z
LOCATION:
SUMMARY:Accreditation Weekend - Peeramon\,  QLD
DESCRIPTION:ATHRA members are encouraged to come along and get accredited f
 or the important roles of Trail Boss\,  Ride Coordinator and Ride Steward. 
 Our National Trainers have a wealth of knowledge and experience to share. T
 his weekend will be both fun and educational\,  so register now.&nbsp; Cont
 act details are on the[..]\nhttps://www.athra.com.au/events/accreditation-w
 eekend-peeramon-qld/
URL:https://www.athra.com.au/events/accreditation-weekend-peeramon-qld/
END:VEVENT
END:VCALENDAR