BEGIN:VCALENDAR
VERSION:2.0
PRODID:-//eventon.com NONSGML v1.0//EN
CALSCALE:GREGORIAN
METHOD:PUBLISH
BEGIN:VEVENT
UID:69e7feec7cdb0
DTSTAMP:20260421T224916Z
DTSTART:20260626T230000Z
DTEND:20260628T050000Z
LOCATION:
SUMMARY:Accreditation Weekend - Thornton\,  QLD
DESCRIPTION:ATHRA members are encouraged to come along and get accredited f
 or the important roles of Trail Boss\,  Ride Coordinator and Ride Steward. 
 Our National Trainers have a wealth of knowledge and experience to share. T
 his weekend will be both fun and educational\,  so register now.&nbsp; See 
 the flyer for contact[..]\nhttps://www.athra.com.au/events/accreditation-we
 ekend-thornton-qld/
URL:https://www.athra.com.au/events/accreditation-weekend-thornton-qld/
END:VEVENT
END:VCALENDAR