BEGIN:VCALENDAR
VERSION:2.0
PRODID:-//eventon.com NONSGML v1.0//EN
CALSCALE:GREGORIAN
METHOD:PUBLISH
BEGIN:VEVENT
UID:69e7ff9ed00f6
DTSTAMP:20260421T225214Z
DTSTART:20260501T233000Z
DTEND:20260502T053000Z
LOCATION:
SUMMARY:Bunyip forest day ride
DESCRIPTION:Day ride in Bunyip state forest from Tynong north horse float p
 arking area. Lunch back at the floats\,  take a snack for on the ride.&nbsp
 ; Approximately 3 hours riding. Contact:&nbsp; Julie Caddy&nbsp; 0429 693 0
 03 for a ride notice and nomination form.\nhttps://www.athra.com.au/events/
 bunyip-forest-day-ride/
URL:https://www.athra.com.au/events/bunyip-forest-day-ride/
END:VEVENT
END:VCALENDAR