BEGIN:VCALENDAR
VERSION:2.0
PRODID:-//eventon.com NONSGML v1.0//EN
CALSCALE:GREGORIAN
METHOD:PUBLISH
BEGIN:VEVENT
UID:69e7fd8784a35
DTSTAMP:20260421T224319Z
DTSTART:20260917T230000Z
DTEND:20260921T050000Z
LOCATION:
SUMMARY:Oallen Ford
DESCRIPTION:Oallen Ford\nhttps://www.athra.com.au/events/oallen-ford/
URL:https://www.athra.com.au/events/oallen-ford/
END:VEVENT
END:VCALENDAR