BEGIN:VCALENDAR
VERSION:2.0
PRODID:-//eventon.com NONSGML v1.0//EN
CALSCALE:GREGORIAN
METHOD:PUBLISH
BEGIN:VEVENT
UID:69e7f24c06e66
DTSTAMP:20260421T215524Z
DTSTART:20260814T230000Z
DTEND:20260815T050000Z
LOCATION:
SUMMARY:Penrose Forest
DESCRIPTION:Penrose Forest\nhttps://www.athra.com.au/events/penrose-forest/
URL:https://www.athra.com.au/events/penrose-forest/
END:VEVENT
END:VCALENDAR