BEGIN:VCALENDAR
VERSION:2.0
PRODID:-//eventon.com NONSGML v1.0//EN
CALSCALE:GREGORIAN
METHOD:PUBLISH
BEGIN:VEVENT
UID:69e7ed5d66dd5
DTSTAMP:20260421T213421Z
DTSTART:20260717T230000Z
DTEND:20260718T050000Z
LOCATION:
SUMMARY:Balanglo Day Ride
DESCRIPTION:Balanglo Day Ride\nhttps://www.athra.com.au/events/balanglo-day
 -ride/
URL:https://www.athra.com.au/events/balanglo-day-ride/
END:VEVENT
END:VCALENDAR