BEGIN:VCALENDAR
VERSION:2.0
PRODID:-//eventon.com NONSGML v1.0//EN
CALSCALE:GREGORIAN
METHOD:PUBLISH
BEGIN:VEVENT
UID:69e7ecaa68a4c
DTSTAMP:20260421T213122Z
DTSTART:20260619T230000Z
DTEND:20260620T050000Z
LOCATION:
SUMMARY:Appin Day Ride
DESCRIPTION:Appin Day Ride\nhttps://www.athra.com.au/events/appin-day-ride/
URL:https://www.athra.com.au/events/appin-day-ride/
END:VEVENT
END:VCALENDAR