BEGIN:VCALENDAR
VERSION:2.0
PRODID:-//eventon.com NONSGML v1.0//EN
CALSCALE:GREGORIAN
METHOD:PUBLISH
BEGIN:VEVENT
UID:69e8005356834
DTSTAMP:20260421T225515Z
DTSTART:20260501T050000Z
DTEND:20260503T050000Z
LOCATION:
SUMMARY:Chapman Valley
DESCRIPTION:Chapman Valley\nhttps://www.athra.com.au/events/chapman-valley/
URL:https://www.athra.com.au/events/chapman-valley/
END:VEVENT
END:VCALENDAR