BEGIN:VCALENDAR
VERSION:2.0
PRODID:-//eventon.com NONSGML v1.0//EN
CALSCALE:GREGORIAN
METHOD:PUBLISH
BEGIN:VEVENT
UID:69e7f1971ac4c
DTSTAMP:20260421T215223Z
DTSTART:20260425T000000Z
DTEND:20260425T040000Z
LOCATION:
SUMMARY:ANZAC DAY
DESCRIPTION:ANZAC Day March at The Caves. Gather at The Caves State School 
 10 am.&nbsp; &nbsp;Marshal for the March 11 am\,  mounted service in Buch S
 quare.&nbsp; &nbsp;After service at trail ride to Camoo Caves info centre.&
 nbsp;&nbsp; Ride Coordinator Leticia Hart 0408361215\nhttps://www.athra.com
 .au/events/anzac-day/
URL:https://www.athra.com.au/events/anzac-day/
END:VEVENT
END:VCALENDAR