BEGIN:VCALENDAR
VERSION:2.0
PRODID:-//eventon.com NONSGML v1.0//EN
CALSCALE:GREGORIAN
METHOD:PUBLISH
BEGIN:VEVENT
UID:69e7eec4953e5
DTSTAMP:20260421T214020Z
DTSTART:20260912T230000Z
DTEND:20260913T040000Z
LOCATION:
SUMMARY:Morrissett ride
DESCRIPTION:Morrissett ride\nhttps://www.athra.com.au/events/morrissett-rid
 e/
URL:https://www.athra.com.au/events/morrissett-ride/
END:VEVENT
END:VCALENDAR