BEGIN:VCALENDAR
VERSION:2.0
PRODID:-//eventon.com NONSGML v1.0//EN
CALSCALE:GREGORIAN
METHOD:PUBLISH
BEGIN:VEVENT
UID:69e7ee10dcfc5
DTSTAMP:20260421T213720Z
DTSTART:20260815T230000Z
DTEND:20260816T040000Z
LOCATION:
SUMMARY:Ourimbah State Forest ride
DESCRIPTION:Ourimbah State Forest ride\nhttps://www.athra.com.au/events/our
 imbah-state-forest-ride/
URL:https://www.athra.com.au/events/ourimbah-state-forest-ride/
END:VEVENT
END:VCALENDAR