BEGIN:VCALENDAR
VERSION:2.0
PRODID:-//eventon.com NONSGML v1.0//EN
CALSCALE:GREGORIAN
METHOD:PUBLISH
BEGIN:VEVENT
UID:69e7f307e7c0e
DTSTAMP:20260421T215831Z
DTSTART:20260717T230000Z
DTEND:20260718T040000Z
LOCATION:
SUMMARY:Martinsville ride
DESCRIPTION:Martinsville ride\nhttps://www.athra.com.au/events/martinsville
 -ride/
URL:https://www.athra.com.au/events/martinsville-ride/
END:VEVENT
END:VCALENDAR