BEGIN:VCALENDAR
VERSION:2.0
PRODID:-//eventon.com NONSGML v1.0//EN
CALSCALE:GREGORIAN
METHOD:PUBLISH
BEGIN:VEVENT
UID:69e7fccf1d8d9
DTSTAMP:20260421T224015Z
DTSTART:20260626T230000Z
DTEND:20260627T040000Z
LOCATION:
SUMMARY:Glenworth Valley ride
DESCRIPTION:Glenworth Valley ride\nhttps://www.athra.com.au/events/glenwort
 h-valley-ride/
URL:https://www.athra.com.au/events/glenworth-valley-ride/
END:VEVENT
END:VCALENDAR