BEGIN:VCALENDAR
VERSION:2.0
PRODID:-//eventon.com NONSGML v1.0//EN
CALSCALE:GREGORIAN
METHOD:PUBLISH
BEGIN:VEVENT
UID:69e7f73542b56
DTSTAMP:20260421T221621Z
DTSTART:20260515T040000Z
DTEND:20260517T040000Z
LOCATION:
SUMMARY:Camp Cobark weekend
DESCRIPTION:Camp Cobark weekend\nhttps://www.athra.com.au/events/camp-cobar
 k-weekend/
URL:https://www.athra.com.au/events/camp-cobark-weekend/
END:VEVENT
END:VCALENDAR