BEGIN:VCALENDAR
VERSION:2.0
PRODID:-//eventon.com NONSGML v1.0//EN
CALSCALE:GREGORIAN
METHOD:PUBLISH
BEGIN:VEVENT
UID:69e7fe3a38a77
DTSTAMP:20260421T224618Z
DTSTART:20260606T230000Z
DTEND:20260607T050000Z
LOCATION:
SUMMARY:Sunny Coast- Mt Allan Firetower
DESCRIPTION:Ride through Conondale National Park from Charlie Moreland camp
  area to Mt Allan Firetower and return by a different route.\nhttps://www.a
 thra.com.au/events/sunny-coast-mt-allan-firetower/
URL:https://www.athra.com.au/events/sunny-coast-mt-allan-firetower/
END:VEVENT
END:VCALENDAR