BEGIN:VCALENDAR
VERSION:2.0
PRODID:-//eventon.com NONSGML v1.0//EN
CALSCALE:GREGORIAN
METHOD:PUBLISH
BEGIN:VEVENT
UID:69e871b8739cf
DTSTAMP:20260422T065904Z
DTSTART:20260515T230000Z
DTEND:20260516T040000Z
LOCATION:
SUMMARY:Sunny Coast- Mapleton Forest ride
DESCRIPTION:&#8220;Megan&#8217;s Track&#8221; in Mapleton Forest. Contact C
 hris&nbsp; Email enquiriessct@gmail.com\nhttps://www.athra.com.au/events/su
 nny-coast-mapleton-forest-ride/
URL:https://www.athra.com.au/events/sunny-coast-mapleton-forest-ride/
END:VEVENT
END:VCALENDAR