BEGIN:VCALENDAR
VERSION:2.0
PRODID:-//eventon.com NONSGML v1.0//EN
CALSCALE:GREGORIAN
METHOD:PUBLISH
BEGIN:VEVENT
UID:69e837bfe2a41
DTSTAMP:20260422T025143Z
DTSTART:20260502
DTEND:20260503
LOCATION:
SUMMARY:Sunny Coast- Curramore New Ride under development
DESCRIPTION:New ride being developed from Curramore (Maleny) toKenilworth. 
 More details to follow. Email contact Chris enquiriessct@gmail.com\nhttps:/
 /www.athra.com.au/events/sunny-coast-curramore-new-ride-under-development/
URL:https://www.athra.com.au/events/sunny-coast-curramore-new-ride-under-development/
END:VEVENT
END:VCALENDAR