BEGIN:VCALENDAR
VERSION:2.0
PRODID:-//eventon.com NONSGML v1.0//EN
CALSCALE:GREGORIAN
METHOD:PUBLISH
BEGIN:VEVENT
UID:69e8a41956b9c
DTSTAMP:20260422T103401Z
DTSTART:20260703T220000Z
DTEND:20260705T040000Z
LOCATION:
SUMMARY:Somerset @ Webbys@Woodford
DESCRIPTION:Weekend at private property at Woodford.&nbsp; More details to 
 come Email somerset@gmail.com&nbsp;\nhttps://www.athra.com.au/events/somers
 et-webbyswoodford/
URL:https://www.athra.com.au/events/somerset-webbyswoodford/
END:VEVENT
END:VCALENDAR