BEGIN:VCALENDAR
VERSION:2.0
PRODID:-//eventon.com NONSGML v1.0//EN
CALSCALE:GREGORIAN
METHOD:PUBLISH
BEGIN:VEVENT
UID:69e7fb673cabb
DTSTAMP:20260421T223415Z
DTSTART:20260911T220000Z
DTEND:20260913T040000Z
LOCATION:
SUMMARY:Somerset @ Braceland\,  Wolvi
DESCRIPTION:Weekend at the beautiful &#8216;Braceland&#8217; @ Wolvi Furthe
 r details to follow&nbsp;&nbsp;\nhttps://www.athra.com.au/events/somerset-b
 raceland-wolvi/
URL:https://www.athra.com.au/events/somerset-braceland-wolvi/
END:VEVENT
END:VCALENDAR