BEGIN:VCALENDAR
VERSION:2.0
PRODID:-//eventon.com NONSGML v1.0//EN
CALSCALE:GREGORIAN
METHOD:PUBLISH
BEGIN:VEVENT
UID:69e839c61c1c1
DTSTAMP:20260422T030022Z
DTSTART:20260811T220000Z
DTEND:20260811T150000Z
LOCATION:
SUMMARY:Somerset @ Stanmore Day Ride – Show Day
DESCRIPTION:Day ride leaving Stanmore for Stony Creek&nbsp; Lunch on trail\
 ,  more details to come&nbsp; email somerset@gmail.com\nhttps://www.athra.c
 om.au/events/somerset-stanmore-day-ride-show-day/
URL:https://www.athra.com.au/events/somerset-stanmore-day-ride-show-day/
END:VEVENT
END:VCALENDAR