BEGIN:VCALENDAR
VERSION:2.0
PRODID:-//eventon.com NONSGML v1.0//EN
CALSCALE:GREGORIAN
METHOD:PUBLISH
BEGIN:VEVENT
UID:69e80270ce078
DTSTAMP:20260421T230416Z
DTSTART:20260731T220000Z
DTEND:20260802T050000Z
LOCATION:
SUMMARY:Somerset @ Linville – Horses Birthday
DESCRIPTION:Weekend at Linville &#8211; Another favourite weekend&nbsp;\nht
 tps://www.athra.com.au/events/somerset-linville-horses-birthday/
URL:https://www.athra.com.au/events/somerset-linville-horses-birthday/
END:VEVENT
END:VCALENDAR