BEGIN:VCALENDAR
VERSION:2.0
PRODID:-//eventon.com NONSGML v1.0//EN
CALSCALE:GREGORIAN
METHOD:PUBLISH
BEGIN:VEVENT
UID:69e7f896aa09c
DTSTAMP:20260421T222214Z
DTSTART:20260717T220000Z
DTEND:20260719T050000Z
LOCATION:
SUMMARY:Somerset @ Karinya in the Valley – Trail and Bushmans Challenge
DESCRIPTION:Christmas in July weekend at Karinya in the Valley.. Obstactles
  plus our annual Bushmans Challenge&nbsp;\nhttps://www.athra.com.au/events/
 somerset-karinya-in-the-valley-trail-and-bushmans-challenge/
URL:https://www.athra.com.au/events/somerset-karinya-in-the-valley-trail-and-bushmans-challenge/
END:VEVENT
END:VCALENDAR