BEGIN:VCALENDAR
VERSION:2.0
PRODID:-//eventon.com NONSGML v1.0//EN
CALSCALE:GREGORIAN
METHOD:PUBLISH
BEGIN:VEVENT
UID:69e7f94f58eb7
DTSTAMP:20260421T222519Z
DTSTART:20260619T220000Z
DTEND:20260621T040000Z
LOCATION:
SUMMARY:Somerset @ Kin Kin
DESCRIPTION:Weekend at Kin Kin &#8211; always a popular weekend&nbsp; More 
 details to follow Email somerset@gmail.com&nbsp;\nhttps://www.athra.com.au/
 events/somerset-kin-kin/
URL:https://www.athra.com.au/events/somerset-kin-kin/
END:VEVENT
END:VCALENDAR