BEGIN:VCALENDAR
VERSION:2.0
PRODID:-//eventon.com NONSGML v1.0//EN
CALSCALE:GREGORIAN
METHOD:PUBLISH
BEGIN:VEVENT
UID:69e801bd31ca7
DTSTAMP:20260421T230117Z
DTSTART:20260529T220000Z
DTEND:20260531T040000Z
LOCATION:
SUMMARY:Somerset @ Benarkin/Emu Creek
DESCRIPTION:Benarkin/Emu Creek Camp &#8211; more details to follow email so
 merset@gmail.com&nbsp;\nhttps://www.athra.com.au/events/somerset-benarkin-e
 mu-creek/
URL:https://www.athra.com.au/events/somerset-benarkin-emu-creek/
END:VEVENT
END:VCALENDAR