BEGIN:VCALENDAR
VERSION:2.0
PRODID:-//eventon.com NONSGML v1.0//EN
CALSCALE:GREGORIAN
METHOD:PUBLISH
BEGIN:VEVENT
UID:69e7ebf561f45
DTSTAMP:20260421T212821Z
DTSTART:20260501T050000Z
DTEND:20260504T050000Z
LOCATION:
SUMMARY:Somerset – King of the Ranges – Thornton
DESCRIPTION:Annual &#8216;King of the Ranges&#8217; Weekend at Thornton &#8
 211; more details to come 3 days of riding in beautiful countryside. Email 
 us on somerset@gmail.com&nbsp; &nbsp;\nhttps://www.athra.com.au/events/some
 rset-king-of-the-ranges-thornton/
URL:https://www.athra.com.au/events/somerset-king-of-the-ranges-thornton/
END:VEVENT
END:VCALENDAR