BEGIN:VCALENDAR
VERSION:2.0
PRODID:-//eventon.com NONSGML v1.0//EN
CALSCALE:GREGORIAN
METHOD:PUBLISH
BEGIN:VEVENT
UID:69e7fa0273953
DTSTAMP:20260421T222818Z
DTSTART:20260627T230000Z
DTEND:20260628T040000Z
LOCATION:
SUMMARY:Burra creek\,  Moruya
DESCRIPTION:A bush and beach ride\nhttps://www.athra.com.au/events/burra-cr
 eek-moruya/
URL:https://www.athra.com.au/events/burra-creek-moruya/
END:VEVENT
END:VCALENDAR