BEGIN:VCALENDAR
VERSION:2.0
PRODID:-//eventon.com NONSGML v1.0//EN
CALSCALE:GREGORIAN
METHOD:PUBLISH
BEGIN:VEVENT
UID:69e7f67e58577
DTSTAMP:20260421T221318Z
DTSTART:20260530T230000Z
DTEND:20260531T040000Z
LOCATION:
SUMMARY:Baarligen\,  Braidwood
DESCRIPTION:Another local ride to the Mongarlowe river for lunch\nhttps://w
 ww.athra.com.au/events/baarligen-braidwood/
URL:https://www.athra.com.au/events/baarligen-braidwood/
END:VEVENT
END:VCALENDAR